BEGIN:VCALENDAR
VERSION:2.0
PRODID:-//ACIC - ECPv5.9.1//NONSGML v1.0//EN
CALSCALE:GREGORIAN
METHOD:PUBLISH
X-WR-CALNAME:ACIC
X-ORIGINAL-URL:https://acic.or.cr
X-WR-CALDESC:Events for ACIC
BEGIN:VTIMEZONE
TZID:America/Costa_Rica
BEGIN:STANDARD
TZOFFSETFROM:-0600
TZOFFSETTO:-0600
TZNAME:CST
DTSTART:20220101T000000
END:STANDARD
END:VTIMEZONE
BEGIN:VEVENT
DTSTART;TZID=America/Costa_Rica:20221012T180000
DTEND;TZID=America/Costa_Rica:20221012T210000
DTSTAMP:20260419T234915
CREATED:20220924T034757Z
LAST-MODIFIED:20220924T034757Z
UID:1901-1665597600-1665608400@acic.or.cr
SUMMARY:Certificación SCRUM MASTER
DESCRIPTION:
URL:https://acic.or.cr/event/certificacion-scrum-master/
ATTACH;FMTTYPE=image/jpeg:https://acic.or.cr/wp-content/uploads/2022/09/unnamed-1.jpg
END:VEVENT
END:VCALENDAR